BEGIN:VCALENDAR
VERSION:2.0
PRODID:-//FOCUS - ECPv6.15.20//NONSGML v1.0//EN
CALSCALE:GREGORIAN
METHOD:PUBLISH
X-ORIGINAL-URL:https://www.euro-focus.de
X-WR-CALDESC:Veranstaltungen für FOCUS
REFRESH-INTERVAL;VALUE=DURATION:PT1H
X-Robots-Tag:noindex
X-PUBLISHED-TTL:PT1H
BEGIN:VTIMEZONE
TZID:UTC
BEGIN:STANDARD
TZOFFSETFROM:+0000
TZOFFSETTO:+0000
TZNAME:UTC
DTSTART:20200101T000000
END:STANDARD
END:VTIMEZONE
BEGIN:VEVENT
DTSTART;VALUE=DATE:20210823
DTEND;VALUE=DATE:20220409
DTSTAMP:20260419T161436
CREATED:20220817T093416Z
LAST-MODIFIED:20220817T093416Z
UID:6833-1629676800-1649462399@www.euro-focus.de
SUMMARY:Meisterkurs in Vollzeit
DESCRIPTION:Am Apfelgarten 3\, 29690 Schwarmstedt Anzeige\n 
URL:https://www.euro-focus.de/event/meisterkurs-in-vollzeit/
LOCATION:Schwarmstedt
CATEGORIES:Seminar
END:VEVENT
BEGIN:VEVENT
DTSTART;VALUE=DATE:20210913
DTEND;VALUE=DATE:20221103
DTSTAMP:20260419T161436
CREATED:20220817T093416Z
LAST-MODIFIED:20220817T093416Z
UID:6832-1631491200-1667433599@www.euro-focus.de
SUMMARY:Meisterkurs in Teilzeit Mo-Mi
DESCRIPTION:Am Apfelgarten 3\, 29690 Schwarmstedt Anzeige\n 
URL:https://www.euro-focus.de/event/meisterkurs-in-teilzeit-mo-mi/
LOCATION:Schwarmstedt
CATEGORIES:Seminar
END:VEVENT
BEGIN:VEVENT
DTSTART;VALUE=DATE:20220328
DTEND;VALUE=DATE:20220331
DTSTAMP:20260419T161436
CREATED:20220817T092115Z
LAST-MODIFIED:20220817T092115Z
UID:6571-1648425600-1648684799@www.euro-focus.de
SUMMARY:Binokulare Augenglasbestimmung nach der MKH-Methode
DESCRIPTION:Weitere Informationen und die Möglichkeit der Anmeldung unter http://www.oculus-akademie.de Anzeige
URL:https://www.euro-focus.de/event/binokulare-augenglasbestimmung-nach-der-mkh-methode/
LOCATION:Wetzlar
CATEGORIES:Seminar
END:VEVENT
BEGIN:VEVENT
DTSTART;VALUE=DATE:20220329
DTEND;VALUE=DATE:20220331
DTSTAMP:20260419T161436
CREATED:20220817T092531Z
LAST-MODIFIED:20220817T092531Z
UID:6657-1648512000-1648684799@www.euro-focus.de
SUMMARY:Orthokeratologie
DESCRIPTION:1. Tag 14:00 bis 18:00 Uhr \n2. Tag 09:00 bis 13:00 Uhr \nTeilnahmegebühr: 338\,– € zzgl. MwSt. \nMit der orthokeratologischen Kontaktlinse DreamLens nachts die Sehkraft aufladen und am nächsten Tag ohne zusätzliche Sehhilfe scharf sehen – dieser Traum kann für viele Myope und myope Presbyope unter Ihren Kunden wahr werden. Absolventen des Seminars können sicher orthokeratologische Kontaktlinsen anpassen und kennen außerdem das Dream-care-Konzept. \nNach Abschluss erhalten Sie ein Zertifikat\, das Sie als Orthokeratologie-Spezialisten ausweist. Anzeige\nKontakt: \nseminare@mpge.de  \nTel.: 04322-750500 \nhttps://www.mpge.de/index.php/seminarprogramm.html
URL:https://www.euro-focus.de/event/orthokeratologie-8/
LOCATION:Dortmund
CATEGORIES:Seminar
END:VEVENT
BEGIN:VEVENT
DTSTART;VALUE=DATE:20220330
DTEND;VALUE=DATE:20220331
DTSTAMP:20260419T161436
CREATED:20220817T091930Z
LAST-MODIFIED:20220817T091930Z
UID:6536-1648598400-1648684799@www.euro-focus.de
SUMMARY:HOYA - Optische und anatomische Brillenanpassung
DESCRIPTION:Anmeldungen bitte über folgende Adresse: https://www.hoyanet.de Anzeige
URL:https://www.euro-focus.de/event/hoya-optische-und-anatomische-brillenanpassung-4/
LOCATION:Berlin
CATEGORIES:Seminar
END:VEVENT
BEGIN:VEVENT
DTSTART;VALUE=DATE:20220330
DTEND;VALUE=DATE:20220401
DTSTAMP:20260419T161436
CREATED:20220817T091530Z
LAST-MODIFIED:20220817T091530Z
UID:6456-1648598400-1648771199@www.euro-focus.de
SUMMARY:FIT FOR SOFT 3 - Intensivierung der Spaltlampentechnik und Presbyopieversorgung
DESCRIPTION:Sie möchten Ihre umfassenden Kenntnisse rund um die Spaltlampe weiter vertiefen oder auf den neuesten Stand bringen? Außerdem interessieren Sie sich für das große Potenzial der Multifokallinsenanpassung? Im FIT FOR SOFT 3 erlernen Sie weiterführende Spaltlampentechniken\, die Tränenfilmanalyse und die Anpassung multifokaler Kontaktlinsen. Eine Live-Versorgung von Testpersonen im Seminar runden das Programm ab.  \n2-tägiges Seminar Anzeige\nWeitere Informationen und die Möglichkeit der Anmeldung unter https://web.cvent.com/event/590c76de-1117-4089-b67b-af6ac59a3cdc/summary
URL:https://www.euro-focus.de/event/fit-for-soft-3-intensivierung-der-spaltlampentechnik-und-presbyopieversorgung-2/
LOCATION:Aschaffenburg
CATEGORIES:Seminar
END:VEVENT
END:VCALENDAR