BEGIN:VCALENDAR
VERSION:2.0
PRODID:-//FOCUS - ECPv6.15.20//NONSGML v1.0//EN
CALSCALE:GREGORIAN
METHOD:PUBLISH
X-WR-CALNAME:FOCUS
X-ORIGINAL-URL:https://www.euro-focus.de
X-WR-CALDESC:Veranstaltungen für FOCUS
REFRESH-INTERVAL;VALUE=DURATION:PT1H
X-Robots-Tag:noindex
X-PUBLISHED-TTL:PT1H
BEGIN:VTIMEZONE
TZID:UTC
BEGIN:STANDARD
TZOFFSETFROM:+0000
TZOFFSETTO:+0000
TZNAME:UTC
DTSTART:20200101T000000
END:STANDARD
END:VTIMEZONE
BEGIN:VEVENT
DTSTART;VALUE=DATE:20210823
DTEND;VALUE=DATE:20220409
DTSTAMP:20260421T123341
CREATED:20220817T093416Z
LAST-MODIFIED:20220817T093416Z
UID:6833-1629676800-1649462399@www.euro-focus.de
SUMMARY:Meisterkurs in Vollzeit
DESCRIPTION:Am Apfelgarten 3\, 29690 Schwarmstedt Anzeige\n 
URL:https://www.euro-focus.de/event/meisterkurs-in-vollzeit/
LOCATION:Schwarmstedt
CATEGORIES:Seminar
END:VEVENT
BEGIN:VEVENT
DTSTART;VALUE=DATE:20210913
DTEND;VALUE=DATE:20221103
DTSTAMP:20260421T123341
CREATED:20220817T093416Z
LAST-MODIFIED:20220817T093416Z
UID:6832-1631491200-1667433599@www.euro-focus.de
SUMMARY:Meisterkurs in Teilzeit Mo-Mi
DESCRIPTION:Am Apfelgarten 3\, 29690 Schwarmstedt Anzeige\n 
URL:https://www.euro-focus.de/event/meisterkurs-in-teilzeit-mo-mi/
LOCATION:Schwarmstedt
CATEGORIES:Seminar
END:VEVENT
BEGIN:VEVENT
DTSTART;VALUE=DATE:20220404
DTEND;VALUE=DATE:20220406
DTSTAMP:20260421T123341
CREATED:20220817T091430Z
LAST-MODIFIED:20220817T091430Z
UID:6437-1649030400-1649203199@www.euro-focus.de
SUMMARY:FIT FOR SOFT   Die Anpassung moderner weicher Kontaktlinsen
DESCRIPTION:Erfahren Sie in diesem Seminar alles über die Anpassung moderner weicher (sphärischer) Kontaktlinsen. Sphärische Weichlinsen-Anpassung mit System: Überblick über alle Stationen der Anpassung von der Hornhauttopographie bis zur Kontaktlinsen-Nachkontrolle\, in Theorie und Praxis.  \n2-tägiges Seminar Anzeige\nWeitere Informationen und die Möglichkeit der Anmeldung unter https://web.cvent.com/event/590c76de-1117-4089-b67b-af6ac59a3cdc/summary
URL:https://www.euro-focus.de/event/fit-for-soft-die-anpassung-moderner-weicher-kontaktlinsen-2/
LOCATION:A-Wien
CATEGORIES:Seminar
END:VEVENT
BEGIN:VEVENT
DTSTART;VALUE=DATE:20220405
DTEND;VALUE=DATE:20220406
DTSTAMP:20260421T123341
CREATED:20220817T091701Z
LAST-MODIFIED:20220817T091701Z
UID:6489-1649116800-1649203199@www.euro-focus.de
SUMMARY:HOYA - Verkaufsschulung für Azubis\, Gesellen und Quereinsteiger
DESCRIPTION:Anmeldungen bitte über folgende Adresse: https://www.hoyanet.de Anzeige
URL:https://www.euro-focus.de/event/hoya-verkaufsschulung-fuer-azubis-gesellen-und-quereinsteiger-6/
LOCATION:München
CATEGORIES:Seminar
END:VEVENT
BEGIN:VEVENT
DTSTART;VALUE=DATE:20220405
DTEND;VALUE=DATE:20220406
DTSTAMP:20260421T123341
CREATED:20220817T091945Z
LAST-MODIFIED:20220817T091945Z
UID:6540-1649116800-1649203199@www.euro-focus.de
SUMMARY:HOYA - Verkaufstraining für Augenoptiker
DESCRIPTION:Anmeldungen bitte über folgende Adresse: https://www.hoyanet.de Anzeige
URL:https://www.euro-focus.de/event/hoya-verkaufstraining-fuer-augenoptiker-4/
LOCATION:Berlin
CATEGORIES:Seminar
END:VEVENT
BEGIN:VEVENT
DTSTART;VALUE=DATE:20220405
DTEND;VALUE=DATE:20220406
DTSTAMP:20260421T123341
CREATED:20220817T092345Z
LAST-MODIFIED:20220817T092345Z
UID:6620-1649116800-1649203199@www.euro-focus.de
SUMMARY:Kinderoptometrie – Kinderaugen optimal versorgen
DESCRIPTION:Zielgruppe: Gesellen\, Meister\, Geschäftsführer\, Inhaber \nTeilnahmegebühr: 450\,00€ zzgl. MwSt. \n  \nKontakt: Anzeige\nhttps://akademie.rodenstock.de \nakademie@rodenstock.com  \nTel.: 089-7202-545
URL:https://www.euro-focus.de/event/kinderoptometrie-kinderaugen-optimal-versorgen-3/
LOCATION:Stuttgart
CATEGORIES:Seminar
END:VEVENT
BEGIN:VEVENT
DTSTART;VALUE=DATE:20220405
DTEND;VALUE=DATE:20220406
DTSTAMP:20260421T123341
CREATED:20220817T092346Z
LAST-MODIFIED:20220817T092346Z
UID:6621-1649116800-1649203199@www.euro-focus.de
SUMMARY:Verkaufen lernen leicht gemacht - für Auszubildende und Gesellen (Modul 2)
DESCRIPTION:Zielgruppe: Auszubildende\, Quereinsteiger\, Gesellen\, Meister\, Geschäftsführer\, Inhaber \nTeilnahmegebühr: 299\,00€ zzgl. MwSt. \n  \nKontakt: Anzeige\nhttps://akademie.rodenstock.de \nakademie@rodenstock.com  \nTel.: 089-7202-545
URL:https://www.euro-focus.de/event/verkaufen-lernen-leicht-gemacht-fuer-auszubildende-und-gesellen-modul-2-4/
LOCATION:Frankfurt
CATEGORIES:Seminar
END:VEVENT
END:VCALENDAR