BEGIN:VCALENDAR
VERSION:2.0
PRODID:-//FOCUS - ECPv6.15.20//NONSGML v1.0//EN
CALSCALE:GREGORIAN
METHOD:PUBLISH
X-ORIGINAL-URL:https://www.euro-focus.de
X-WR-CALDESC:Veranstaltungen für FOCUS
REFRESH-INTERVAL;VALUE=DURATION:PT1H
X-Robots-Tag:noindex
X-PUBLISHED-TTL:PT1H
BEGIN:VTIMEZONE
TZID:UTC
BEGIN:STANDARD
TZOFFSETFROM:+0000
TZOFFSETTO:+0000
TZNAME:UTC
DTSTART:20200101T000000
END:STANDARD
END:VTIMEZONE
BEGIN:VEVENT
DTSTART;VALUE=DATE:20210913
DTEND;VALUE=DATE:20221103
DTSTAMP:20260419T144920
CREATED:20220817T093416Z
LAST-MODIFIED:20220817T093416Z
UID:6832-1631491200-1667433599@www.euro-focus.de
SUMMARY:Meisterkurs in Teilzeit Mo-Mi
DESCRIPTION:Am Apfelgarten 3\, 29690 Schwarmstedt Anzeige\n 
URL:https://www.euro-focus.de/event/meisterkurs-in-teilzeit-mo-mi/
LOCATION:Schwarmstedt
CATEGORIES:Seminar
END:VEVENT
BEGIN:VEVENT
DTSTART;VALUE=DATE:20220516
DTEND;VALUE=DATE:20220520
DTSTAMP:20260419T144920
CREATED:20220817T092101Z
LAST-MODIFIED:20220817T092101Z
UID:6566-1652659200-1653004799@www.euro-focus.de
SUMMARY:Refraktion für Einsteiger
DESCRIPTION:Weitere Informationen und die Möglichkeit der Anmeldung unter http://www.oculus-akademie.de Anzeige
URL:https://www.euro-focus.de/event/refraktion-fuer-einsteiger/
LOCATION:Wetzlar
CATEGORIES:Seminar
END:VEVENT
BEGIN:VEVENT
DTSTART;VALUE=DATE:20220519
DTEND;VALUE=DATE:20220520
DTSTAMP:20260419T144920
CREATED:20220817T091930Z
LAST-MODIFIED:20220817T091930Z
UID:6535-1652918400-1653004799@www.euro-focus.de
SUMMARY:HOYA - Optische und anatomische Brillenanpassung
DESCRIPTION:Anmeldungen bitte über folgende Adresse: https://www.hoyanet.de Anzeige
URL:https://www.euro-focus.de/event/hoya-optische-und-anatomische-brillenanpassung-3/
LOCATION:Hamburg
CATEGORIES:Seminar
END:VEVENT
BEGIN:VEVENT
DTSTART;VALUE=DATE:20220519
DTEND;VALUE=DATE:20220520
DTSTAMP:20260419T144920
CREATED:20220817T092301Z
LAST-MODIFIED:20220817T092301Z
UID:6609-1652918400-1653004799@www.euro-focus.de
SUMMARY:Systematische Fassungsberatung – kompakt
DESCRIPTION:Zielgruppe: Gesellen\, Meister\, Geschäftsführer\, Inhaber \nTeilnahmegebühr: 450\,00€ zzgl. MwSt. \n  \nKontakt: Anzeige\nhttps://akademie.rodenstock.de \nakademie@rodenstock.com  \nTel.: 089-7202-545
URL:https://www.euro-focus.de/event/systematische-fassungsberatung-kompakt/
LOCATION:Hannover
CATEGORIES:Seminar
END:VEVENT
END:VCALENDAR