BEGIN:VCALENDAR
VERSION:2.0
PRODID:-//FOCUS - ECPv6.15.20//NONSGML v1.0//EN
CALSCALE:GREGORIAN
METHOD:PUBLISH
X-WR-CALNAME:FOCUS
X-ORIGINAL-URL:https://www.euro-focus.de
X-WR-CALDESC:Veranstaltungen für FOCUS
REFRESH-INTERVAL;VALUE=DURATION:PT1H
X-Robots-Tag:noindex
X-PUBLISHED-TTL:PT1H
BEGIN:VTIMEZONE
TZID:Europe/Berlin
BEGIN:DAYLIGHT
TZOFFSETFROM:+0100
TZOFFSETTO:+0200
TZNAME:CEST
DTSTART:20240331T010000
END:DAYLIGHT
BEGIN:STANDARD
TZOFFSETFROM:+0200
TZOFFSETTO:+0100
TZNAME:CET
DTSTART:20241027T010000
END:STANDARD
BEGIN:DAYLIGHT
TZOFFSETFROM:+0100
TZOFFSETTO:+0200
TZNAME:CEST
DTSTART:20250330T010000
END:DAYLIGHT
BEGIN:STANDARD
TZOFFSETFROM:+0200
TZOFFSETTO:+0100
TZNAME:CET
DTSTART:20251026T010000
END:STANDARD
BEGIN:DAYLIGHT
TZOFFSETFROM:+0100
TZOFFSETTO:+0200
TZNAME:CEST
DTSTART:20260329T010000
END:DAYLIGHT
BEGIN:STANDARD
TZOFFSETFROM:+0200
TZOFFSETTO:+0100
TZNAME:CET
DTSTART:20261025T010000
END:STANDARD
END:VTIMEZONE
BEGIN:VEVENT
DTSTART;TZID=Europe/Berlin:20251113T123000
DTEND;TZID=Europe/Berlin:20251113T130000
DTSTAMP:20260421T170439
CREATED:20251027T114930Z
LAST-MODIFIED:20251027T114930Z
UID:20441-1763037000-1763038800@www.euro-focus.de
SUMMARY:Multifokale Kontaktlinsen einfach angepasst – Kontaktlinsenanpassung bei Alfonso Brehms
DESCRIPTION:Mehr Flexibilität im Alltag – die perfekte Ergänzung zur Gleitsichtbrille\, multifokale Kontaktlinsen \nDie Gleitsichtbrille ist nicht immer die ideale Lösung – besonders für aktive Menschen wie Alfonso Brehms\, der sich mehr Freiheit im Alltag wünscht. \nIm Webinar erfahren Sie\, wie Sie mit dem Kontaktlinsenkalkulator im CooperVision® OptiExpert™ multifokale Kontaktlinsen schnell und zuverlässig berechnen und anpassen können. Außerdem gibt Katharina Manz Einblicke aus der Praxis sowie ihrer wissenschaftlichen Arbeit und zeigt\, warum die Einhaltung der Anpassempfehlung entscheidend für den Anpasserfolg ist.\nFür alle\, die ihre Anpasskompetenz erweitern und Kunden und Kundinnen eine alltagstaugliche Alternative zur Gleitsichtbrille bieten möchten. Anzeige\nJetzt registrieren!
URL:https://www.euro-focus.de/event/multifokale-kontaktlinsen-einfach-angepasst-kontaktlinsenanpassung-bei-alfonso-brehms/
LOCATION:online
CATEGORIES:Seminar
END:VEVENT
END:VCALENDAR