BEGIN:VCALENDAR
VERSION:2.0
PRODID:-//FOCUS - ECPv6.15.20//NONSGML v1.0//EN
CALSCALE:GREGORIAN
METHOD:PUBLISH
X-ORIGINAL-URL:https://www.euro-focus.de
X-WR-CALDESC:Veranstaltungen für FOCUS
REFRESH-INTERVAL;VALUE=DURATION:PT1H
X-Robots-Tag:noindex
X-PUBLISHED-TTL:PT1H
BEGIN:VTIMEZONE
TZID:Europe/Berlin
BEGIN:DAYLIGHT
TZOFFSETFROM:+0100
TZOFFSETTO:+0200
TZNAME:CEST
DTSTART:20250330T010000
END:DAYLIGHT
BEGIN:STANDARD
TZOFFSETFROM:+0200
TZOFFSETTO:+0100
TZNAME:CET
DTSTART:20251026T010000
END:STANDARD
BEGIN:DAYLIGHT
TZOFFSETFROM:+0100
TZOFFSETTO:+0200
TZNAME:CEST
DTSTART:20260329T010000
END:DAYLIGHT
BEGIN:STANDARD
TZOFFSETFROM:+0200
TZOFFSETTO:+0100
TZNAME:CET
DTSTART:20261025T010000
END:STANDARD
BEGIN:DAYLIGHT
TZOFFSETFROM:+0100
TZOFFSETTO:+0200
TZNAME:CEST
DTSTART:20270328T010000
END:DAYLIGHT
BEGIN:STANDARD
TZOFFSETFROM:+0200
TZOFFSETTO:+0100
TZNAME:CET
DTSTART:20271031T010000
END:STANDARD
END:VTIMEZONE
BEGIN:VEVENT
DTSTART;TZID=Europe/Berlin:20260318T123000
DTEND;TZID=Europe/Berlin:20260318T130000
DTSTAMP:20260420T124024
CREATED:20260116T145109Z
LAST-MODIFIED:20260116T145658Z
UID:21606-1773837000-1773838800@www.euro-focus.de
SUMMARY:Multifokale Kontaktlinsen einfach angepasst – der Kontaktlinsenkalkulator in der Praxis
DESCRIPTION:Mehr Flexibilität im Alltag – die perfekte Ergänzung zur Gleitsichtbrille\, multifokale Kontaktlinsen \nDie Gleitsichtbrille ist nicht immer die ideale Lösung – besonders für aktive Menschen wie Alfonso Brehms\, der sich mehr Freiheit im Alltag wünscht.\nIm Webinar erfahren Sie\, wie Sie mit dem Kontaktlinsenkalkulator im CooperVision® OptiExpert™ multifokale Kontaktlinsen schnell und zuverlässig berechnen und anpassen können.\nAußerdem gibt Katharina Manz Einblicke aus der Praxis sowie ihrer wissenschaftlichen Arbeit und zeigt\, warum die Einhaltung der Anpassempfehlung entscheidend für den Anpasserfolg ist.\nFür alle\, die ihre Anpasskompetenz erweitern und Kunden und Kundinnen eine alltagstaugliche Alternative zur Gleitsichtbrille bieten möchten.\nDieses Webinar richtet sich an all diejenigen\, die mit der Kontaktlinsenanpassung starten oder ihr Basis-Wissen auffrischen möchten. Anzeige\n\nJetzt registrieren!
URL:https://www.euro-focus.de/event/multifokale-kontaktlinsen-einfach-angepasst-der-kontaktlinsenkalkulator-in-der-praxis/
LOCATION:Online Seminar
CATEGORIES:Seminar
END:VEVENT
BEGIN:VEVENT
DTSTART;TZID=Europe/Berlin:20260325T120000
DTEND;TZID=Europe/Berlin:20260325T130000
DTSTAMP:20260420T124024
CREATED:20260116T061950Z
LAST-MODIFIED:20260116T145600Z
UID:21609-1774440000-1774443600@www.euro-focus.de
SUMMARY:Erfolgreich beraten – sicher anpassen: mit der MyDay®-Familie
DESCRIPTION:MyDay®-Einmalkontaktlinsen im Fokus\nUnkomplizierte Kontaktlinsenanpassung mit der MyDay®-Familie – besonders bei Kunden und Kundinnen mit engem Zeitplan und hohen Erwartungen. Erleben Sie in diesem Webinar\, wie Sie mit den MyDay® Einmalkontaktlinsen und dem OptiExpert™ Kontaktlinsenkalkulator Ihre Beratung noch einfacher und erfolgreicher gestalten. Lernen Sie die innovativen Technologien kennen\, die für höchsten Tragekomfort und exzellente Sehqualität sorgen – sowohl bei sphärischen als auch bei torischen und multifokalen Versorgungen. Entdecken Sie praxisnahe Tipps zur Anpassung und Kommunikation mit Ihren Kundinnen und Kunden.\nKompakt\, praxisnah und direkt umsetzbar – für alle\, die ihre Kontaktlinsenanpassung effizienter gestalten möchten. Anzeige\n\nJetzt registrieren!
URL:https://www.euro-focus.de/event/erfolgreich-beraten-sicher-anpassen-mit-der-myday-familie/
LOCATION:Online Seminar
CATEGORIES:Seminar
END:VEVENT
END:VCALENDAR