BEGIN:VCALENDAR
VERSION:2.0
PRODID:-//FOCUS - ECPv6.15.20//NONSGML v1.0//EN
CALSCALE:GREGORIAN
METHOD:PUBLISH
X-WR-CALNAME:FOCUS
X-ORIGINAL-URL:https://www.euro-focus.de
X-WR-CALDESC:Veranstaltungen für FOCUS
REFRESH-INTERVAL;VALUE=DURATION:PT1H
X-Robots-Tag:noindex
X-PUBLISHED-TTL:PT1H
BEGIN:VTIMEZONE
TZID:Europe/Berlin
BEGIN:DAYLIGHT
TZOFFSETFROM:+0100
TZOFFSETTO:+0200
TZNAME:CEST
DTSTART:20240331T010000
END:DAYLIGHT
BEGIN:STANDARD
TZOFFSETFROM:+0200
TZOFFSETTO:+0100
TZNAME:CET
DTSTART:20241027T010000
END:STANDARD
BEGIN:DAYLIGHT
TZOFFSETFROM:+0100
TZOFFSETTO:+0200
TZNAME:CEST
DTSTART:20250330T010000
END:DAYLIGHT
BEGIN:STANDARD
TZOFFSETFROM:+0200
TZOFFSETTO:+0100
TZNAME:CET
DTSTART:20251026T010000
END:STANDARD
BEGIN:DAYLIGHT
TZOFFSETFROM:+0100
TZOFFSETTO:+0200
TZNAME:CEST
DTSTART:20260329T010000
END:DAYLIGHT
BEGIN:STANDARD
TZOFFSETFROM:+0200
TZOFFSETTO:+0100
TZNAME:CET
DTSTART:20261025T010000
END:STANDARD
END:VTIMEZONE
BEGIN:VEVENT
DTSTART;TZID=Europe/Berlin:20251030T123000
DTEND;TZID=Europe/Berlin:20251030T130000
DTSTAMP:20260420T164025
CREATED:20251027T114948Z
LAST-MODIFIED:20251027T114948Z
UID:20437-1761827400-1761829200@www.euro-focus.de
SUMMARY:Myopie bei Kindern: erkennen und handeln – Kontaktlinsenanpassung bei Mia Brehms
DESCRIPTION:Myopie-Management im Fokus – abschätzen der axialen Augenbaulänge auf Basis erster Kundeninformationen\nMia\, ein typisches Schulkind\, zeigt erste Anzeichen einer beginnenden Myopie. Im Webinar erfahren Sie\, wie Sie diese frühzeitig erkennen und mithilfe des Kalkulators zur Abschätzung der axialen Augenbaulänge im CooperVision® OptiExpert™ einordnen können. Wir zeigen Ihnen\, wie die MiSight® 1 day als innovative Kontaktlinsenlösung im Myopie-Management zum Einsatz kommt und geben Ihnen einen Einblick in die Wirkungsweise dieser speziell für das Myopie-Management entwickelten Kontaktlinse.\nKompakt\, evidenzbasiert und direkt anwendbar – für alle\, die die fortschreitende Myopie frühzeitig erkennen und gezielt versorgen möchten. Anzeige\nJetzt registrieren!
URL:https://www.euro-focus.de/event/myopie-bei-kindern-erkennen-und-handeln-kontaktlinsenanpassung-bei-mia-brehms/
LOCATION:online
CATEGORIES:Seminar
END:VEVENT
END:VCALENDAR